BEGIN:VCALENDAR
VERSION:2.0
PRODID:-//National Citizen&#039;s Inquiry - Canada&#039;s Response To Covid-19 - ECPv6.15.16//NONSGML v1.0//EN
CALSCALE:GREGORIAN
METHOD:PUBLISH
X-ORIGINAL-URL:https://nationalcitizensinquiry.ca
X-WR-CALDESC:Events for National Citizen&#039;s Inquiry - Canada&#039;s Response To Covid-19
REFRESH-INTERVAL;VALUE=DURATION:PT1H
X-Robots-Tag:noindex
X-PUBLISHED-TTL:PT1H
BEGIN:VTIMEZONE
TZID:America/Regina
BEGIN:STANDARD
TZOFFSETFROM:-0600
TZOFFSETTO:-0600
TZNAME:CST
DTSTART:20250101T000000
END:STANDARD
END:VTIMEZONE
BEGIN:VEVENT
DTSTART;TZID=America/Regina:20260309T090000
DTEND;TZID=America/Regina:20260311T170000
DTSTAMP:20260423T175553
CREATED:20260223T142141Z
LAST-MODIFIED:20260224T042249Z
UID:37564-1773046800-1773248400@nationalcitizensinquiry.ca
SUMMARY:TICKETS: NCI Kelowna Hearings\, March 9-11\, 2026
DESCRIPTION:The National Citizens Inquiry Kelowna\, BC Hearings\, March 9 – 11\, 2026.\nAre Farmers Safe In Canada?\nThe National Citizens Inquiry will convene the first special public hearing; “Are Farmers Safe in Canada” to examine urgent questions at the heart of Canada’s food legislative and regulatory system. \nHearings are open to the public and all are encouraged to attend. As a quasi-judicial inquiry\, please pay attention to the instructions given by the volunteers\, and maintain respectful silence during the hearings\, and silence any electronic devices. \nIf you would like to donate to support the cost of these citizen-funded hearings\, please visit our donate page here. \nWe look forward to seeing you!
URL:https://nationalcitizensinquiry.ca/event/kelowna-2026-tickets/
LOCATION:Kelowna Events Centre\, 2041 Harvey Ave\, Kelowna\, BC\, V1Y 6G7\, Canada
ATTACH;FMTTYPE=image/jpeg:https://nationalcitizensinquiry.ca/wp-content/uploads/2026/02/NCI-Special-hearing-2.jpg
END:VEVENT
END:VCALENDAR